BEGIN:VCALENDAR
VERSION:2.0
PRODID:-//Asociación KP - ECPv6.3.4//NONSGML v1.0//EN
CALSCALE:GREGORIAN
METHOD:PUBLISH
X-WR-CALNAME:Asociación KP
X-ORIGINAL-URL:https://asociacionkp.org
X-WR-CALDESC:Eventos para Asociación KP
REFRESH-INTERVAL;VALUE=DURATION:PT1H
X-Robots-Tag:noindex
X-PUBLISHED-TTL:PT1H
BEGIN:VTIMEZONE
TZID:UTC
BEGIN:STANDARD
TZOFFSETFROM:+0000
TZOFFSETTO:+0000
TZNAME:UTC
DTSTART:20250101T000000
END:STANDARD
END:VTIMEZONE
BEGIN:VEVENT
DTSTART;TZID=UTC:20251026T084500
DTEND;TZID=UTC:20251026T123000
DTSTAMP:20260423T162629
CREATED:20250921T032316Z
LAST-MODIFIED:20251021T213825Z
UID:3238-1761468300-1761481800@asociacionkp.org
SUMMARY:| CONVOCATORIA | Voluntariado en comunidades de Pamplona – Inscripciones agotadas
DESCRIPTION:🌟 Convocatoria de Voluntariado: Ayuda Animal Pamplona 🐾\n¿Amas a los animales y quieres ser parte del cambio?Únete a nuestro equipo de voluntarios comprometidos con el bienestar animal en Pamplona y ayúdanos a transformar la vida de muchos peluditos que nos necesitan. \n\n✨ Tareas y Responsabilidades\n✔️ Brindar apoyo a animales abandonados en situación de vulnerabilidad.✔️ Ofrecer alimento\, agua y cariño.✔️ Colaborar en la búsqueda de hogares responsables y amorosos. \n\n👤 Perfil del Voluntario(a)\n\n\nDirigido a estudiantes de pregrado\, egresados y público en general. \n\n\nContar con disponibilidad de tiempo para las actividades. \n\n\nCompromiso con la causa y disposición para trabajar en equipo. \n\n\nHabilidades para interactuar con respeto y empatía. \n\n\nAmor genuino por los animales. \n\n\n\n🎁 Beneficios de ser Voluntario(a) KP\n\n\nAcreditación de 04 horas de voluntariado. \n\n\nCertificado oficial reconocido por SENAJU y MIMP (SINAVOL). \n\n\nOportunidad real de impactar en la vida de animales sin hogar. \n\n\nIntegración a una comunidad solidaria y comprometida. \n\n\nInvitación a eventos sociales exclusivos para voluntarios. \n\n\n\n📅 Detalles del Programa\n\n\nNombre: Voluntariado en comunidades de Pamplona \n\n\nFecha y horario: Domingo 26 de octubre\, de 9 a.m. a 12:30 p.m. \n\n\n\n📍 Puntos de Encuentro y Traslado\n\n\nSurco: Exteriores de la Universidad Ricardo Palma (Av. Alfredo Benavides 5440) – 8:45 a.m. \n\n\nSan Juan de Miraflores: Exteriores de Pollería Chifa Goku\, calle Leoncio Prado – 9:10 a.m. \n\n\nTraslado: En transporte público desde la Universidad Ricardo Palma (costo S/. 3.00 ida y vuelta). \n\n\n\n🎒 Donaciones Recomendadas\n\n\nAlimento para perros o gatos. \n\n\nPlatos descartables y artículos de limpieza. \n\n\nAntipulgas o medicinas. \n\n\nAgua embotellada. \n\n\n\n📝 ¿Cómo Inscribirte?\n\n\nEnvía tu inscripción al WhatsApp 922 217 265 con: \n\n\nNombre completo \n\n\nDistrito \n\n\nInstitución educativa (colegio\, universidad\, egresado o ninguna) \n\n\nNúmero de WhatsApp \n\n\nNombre del programa \n\n\nVoucher de inscripción (S/. 10.00) \n\n\n\n\nRealiza el pago por Yape\, Plin o transferencia bancaria. \n\n\nOpcional: Indica la donación que llevarás para apoyar a más animales. \n\n\n\n💰 Inversión del Programa\nS/. 10.00 soles \nCanales de pago – Asociación KP \n\n\nYape / Plin: 922 217 265 (Jairo P.) \n\n\nInterbank Cta. Corriente: 200-3002054173 \n\n\nCCI (desde cualquier banco): 003-200-003002054173-33 \n\n\nRUC: 20601462924 / Razón Social: Asociación KP \n\n\n\n💕 Súmate a esta causa\n¡Tu participación puede cambiar el destino de un animal en situación de abandono!Demostremos juntos que la compasión y la solidaridad hacen grande a nuestra comunidad. \n👉 ¡Apoya y participa! \n \n*La inscripción es un compromiso hacia el programa seleccionado\, no hay cambios de fecha\, reprogramaciones\, devoluciones\, por ningún motivo. Es responsabilidad del voluntario(a) revisar la información completa del programa. \n  \n 
URL:https://asociacionkp.org/evento/convocatoria-voluntariado-en-comunidades-de-pamplona-inscripciones-abiertas/
LOCATION:04 horas\, | Pamplona Alta\, San Juan de Miraflores\, Lima\, Perú
ATTACH;FMTTYPE=image/jpeg:https://asociacionkp.org/wp-content/uploads/2024/04/WhatsApp-Image-2024-09-16-at-5.49.36-PM.jpeg
ORGANIZER;CN="Asociaci%C3%B3n KP":MAILTO:administracion@asociacionkp.org
END:VEVENT
END:VCALENDAR