BEGIN:VCALENDAR
VERSION:2.0
PRODID:-//Asociación KP - ECPv6.3.4//NONSGML v1.0//EN
CALSCALE:GREGORIAN
METHOD:PUBLISH
X-WR-CALNAME:Asociación KP
X-ORIGINAL-URL:https://asociacionkp.org
X-WR-CALDESC:Eventos para Asociación KP
REFRESH-INTERVAL;VALUE=DURATION:PT1H
X-Robots-Tag:noindex
X-PUBLISHED-TTL:PT1H
BEGIN:VTIMEZONE
TZID:UTC
BEGIN:STANDARD
TZOFFSETFROM:+0000
TZOFFSETTO:+0000
TZNAME:UTC
DTSTART:20240101T000000
END:STANDARD
END:VTIMEZONE
BEGIN:VEVENT
DTSTART;TZID=UTC:20240114T093000
DTEND;TZID=UTC:20240114T130000
DTSTAMP:20260422T052323
CREATED:20220607T152610Z
LAST-MODIFIED:20240113T145611Z
UID:1072-1705224600-1705237200@asociacionkp.org
SUMMARY:| CONVOCATORIA | Visita al albergue de «Jorge Diaz» – Inscripciones agotadas
DESCRIPTION:Recuerda que trabajar con animales en albergues puede ser gratificante\, pero también requiere paciencia y comprensión\, ya que algunos animales pueden haber pasado por situaciones difíciles. Tu dedicación y cuidado marcarán la diferencia en sus vidas. \n¡Únete a nosotros y marca la diferencia en la vida de los animales sin hogar! \n▪️¿Qué buscamos? \n\nEstamos buscando voluntarios comprometidos y amantes de los animales para unirse a nuestro equipo. Si tienes pasión por el bienestar animal y deseas hacer una diferencia positiva en la vida de aquellos que no tienen voz\, ¡te necesitamos!\n\n▪️Tareas y Responsabilidades: \n\nTareas como cuidado y limpieza de animales\, paseos\, juegos y socialización.\n\n▪️Requisitos y perfil de voluntario(a): Dirigido a estudiantes de pre-grado\, egresados de todas las carreras\, y todo público en general. \n\nDisponibilidad de tiempo para dedicarlo a las labores del voluntariado.\nCompromiso hacia el programa.*\nTener tacto\, respeto y consideración para poder entablar una relación con los beneficiarios del programa.\nSaber trabajar en equipo y tener la buena voluntad para ayudar.\nTener empatía y amor por los animales.\n\n▪️Beneficio de ser voluntario(a) KP: \n\nEste programa acredita 04 horas de voluntariado.\nLa oportunidad de marcar una diferencia en la vida de los animales sin hogar.\nFormar parte de una comunidad comprometida con el bienestar animal.\nCertificado de reconocimiento por tu labor como voluntario(a).\nEl certificado es acreditado por el SENAJU y MIMP (SINAVOL)\, para bonificación extra en acceso a Becas de PRONABEC.\nTe haremos entrega de un certificado que podrás incluir en tu CV previa solicitud al culminar el voluntariado escribiendo al WhatsApp  https://wa.me/message/YJQSCGWXGP3XK1\nInvitación a eventos sociales (presenciales y virtuales) exclusivos para voluntarios.\n\n▪️ Nombre del programa: \n\nVisita al albergue «Jorge Diaz»\n\n🗓️ Fecha y horario del programa: \n\nDomingo 14 de enero\n9:30 am a 1 pm\n\n▪️Punto de encuentro y traslado: \n\nVilla María del Triunfo: En los exteriores de la Estación del Tren de Villa María del Triunfo (Piso 2) a  las 9:30 am.\nEl traslado será en transporte público (S/.2 soles ida y vuelta aprox por cada asistente) en dirección al albergue desde el punto de encuentro. La llegada al albergue será a las 10:00 am como máximo.\n\n▪️¿Qué donación puedes llevar? \n\nAlimento para perrito\, artículos de limpieza: escobas\, recogedores\, bolsas de basura\, antipulgas y medicinas\, útiles de aseo (jabón líquido\, toallas\, paños húmedos)\, guantes de látex en cualquier talla\, agua embotellada.\n\n▪️Dinámica del programa: \n\nEl punto de encuentro será en Villa Maria del Triunfo a las 9:30 am.\nPartiremos a las 9:40 am como máximo.\nViste ropa cómoda (buzo y camisetas de manga larga de preferencia).\nDe preferencia\, lleva tu tomatodo\, botella de agua y alimento ligero por temas de bioseguridad.\nSe dará una breve charla de inducción\, entrega de donaciones\nTareas de limpieza del centro de rescate\, baño y paseo a los animales\, traslado de las mascotas a la veterinaria (de ser el caso)\, toma de fotos para promover la adopción (de ser el caso)\, y otras actividades que requiera la administración.\n\n  \n▪️Proceso de inscripción:  Si estás interesado en ser parte de nuestro equipo de voluntarios\, por favor sigue estos pasos: \nEnvía tu inscripción al WhatsApp 📲 922 217 265 ( wssp ). Puedes detallar tu inscripción con los siguiente datos: \n\nNombre completo / Distrito\nInstitución educativa (colegio o universidad o egresado o ninguna)\n#  de wssp\nNombre del programa  / Fecha del Programa\nDonación que llevarás\nVoucher de inversión de inscripción al programa\n\n¿Cuál es la inversión del programa? \n\nS/. 5.00 soles\n\n📌Canales bancarios para inscripción – Asociación KP: \n\nYape / PLIN: 922 217 265 (Jairo P.)\nCuenta Corriente Interbank: 200-3002054173\nCuenta Interbancaria desde cualquier banco: 003-200-003002054173-33\nRUC: 20601462924 / Razón Social: Asociación KP\n\n¡Gracias por considerar ser parte de nuestro equipo y ayudar a los animales sin hogar! \n \n*La inscripción es un compromiso hacia el programa seleccionado\, no hay cambios de fecha\, reprogramaciones\, devoluciones\, por ningún motivo. Es responsabilidad del voluntario(a) revisar la información completa del programa. \n  \n▶️ Adquiere tu pack solidario (opcional): \n\nPuedes solicitar tu pack solidario KP a sólo 30 soles escribiendo al  https://wa.me/message/YJQSCGWXGP3XK1\n\n \n▶️ Adquiere tu Polo: Héroe KP (opcional): \n\nPuedes solicitar tu polo KP a sólo 30 soles escribiendo al  https://wa.me/message/YJQSCGWXGP3XK1
URL:https://asociacionkp.org/evento/jornada-de-voluntariado-visita-al-albergue-jorge-diaz-en-villa-maria-del-triunfo-inscripciones-abiertas-2/
LOCATION:04 horas\, | Albergue Jorge Diaz\, Villa Maria del Triunfo\, Lima\, Perú
ATTACH;FMTTYPE=image/jpeg:https://asociacionkp.org/wp-content/uploads/2022/04/fd49f457-4adb-4759-bbde-635a757d7f79.jpg
ORGANIZER;CN="Asociaci%C3%B3n KP":MAILTO:administracion@asociacionkp.org
END:VEVENT
END:VCALENDAR