BEGIN:VCALENDAR
VERSION:2.0
PRODID:-//Asociación KP - ECPv6.3.4//NONSGML v1.0//EN
CALSCALE:GREGORIAN
METHOD:PUBLISH
X-WR-CALNAME:Asociación KP
X-ORIGINAL-URL:https://asociacionkp.org
X-WR-CALDESC:Eventos para Asociación KP
REFRESH-INTERVAL;VALUE=DURATION:PT1H
X-Robots-Tag:noindex
X-PUBLISHED-TTL:PT1H
BEGIN:VTIMEZONE
TZID:UTC
BEGIN:STANDARD
TZOFFSETFROM:+0000
TZOFFSETTO:+0000
TZNAME:UTC
DTSTART:20240101T000000
END:STANDARD
END:VTIMEZONE
BEGIN:VEVENT
DTSTART;TZID=UTC:20240412T080000
DTEND;TZID=UTC:20240412T233000
DTSTAMP:20260422T020403
CREATED:20220407T155549Z
LAST-MODIFIED:20240412T024013Z
UID:769-1712908800-1712964600@asociacionkp.org
SUMMARY:| CONVOCATORIA VOLUNTARIADO VIRTUAL | Rifaton KP Wasi  – Inscripciones abiertas
DESCRIPTION:Convocatoria de Voluntariado Virtual – Rifatón KP Wasi \n¡Marca la diferencia en la vida de animales sin hogar! Únete a nuestro voluntariado virtual y contribuye al bienestar de estos seres indefensos. \n¿Qué buscamos? \n\nVoluntarios comprometidos y amantes de los animales.\nPasión por el bienestar animal y deseo de hacer una diferencia positiva.\nTareas: Venta virtual de rifas\, difusión de material gráfico (casos de ayuda\, promoción de adopciones)\, retos y más a través de redes sociales desde la comodidad de tu hogar\, centro de trabajo o centro de estudios.\n\nRequisitos y Perfil: \n\nDirigido a estudiantes\, egresados y público en general.\nDisponibilidad de tiempo y compromiso.\nActividad en redes sociales (IG y/o FB).\nEmpatía y amor por los animales.\n\nBeneficios: \n\nAcreditación de 60 horas de voluntariado (para público general).\nSi eres de la comunidad estudiantil de la UPC se valida 3 créditos extra académico.*\nCertificado de reconocimiento acreditado por SENAJU y MIMP.\nOportunidad de marcar la diferencia.\nInclusión en una comunidad comprometida con el bienestar animal.\n\nPrograma: \n\nNombre: Voluntariado Virtual – Rifatón KP Wasi.\nFecha: 15 de abril al 19 de mayo.\nHorario flexible según disponibilidad.\n\nProceso de Inscripción: \n\nEnvía tu inscripción al WhatsApp 📲 922 217 265 https://wa.me/message/YJQSCGWXGP3XK1\ncon: Nombre\, Distrito\, Institución Educativa (colegio o universidad o egresado o ninguna)\, número de WhatsApp\, Nombre del Programa y Voucher de inscripción (S/. 10.00 soles).\nRealiza el pago por Yape\, PLIN o cuenta bancaria (detalles proporcionados líneas abajo).\nFecha límite de inscripción: 12 de abril.\n\n¿Cuál es la inversión del programa? \n\nS/. 10.00 soles\n\n📌Canales bancarios para inscripción – Asociación KP: \n\nYape / PLIN: 922 217 265 (Jairo P.)\nCuenta Corriente Interbank: 200-3002054173\nCuenta Interbancaria desde cualquier banco: 003-200-003002054173-33\nRUC: 20601462924 / Razón Social: Asociación KP\n\nDinámica del Programa: \n\nCharla de inducción obligatoria.\nFormación de grupo de WhatsApp oficial.\nPublicaciones a través de las redes sociales cada semana\, y cumplimiento de retos (obligatorio para cumplir con el programa)\nRetos de venta de rifas (mín. 2 por semana).\nCosto de ticket: 10 soles\n\n▶️Premios: \n\n1er ganador: S/. 5\,000 soles\n2do ganador: 01 PlayStation 5\n3er ganador: 01 Laptop Gamer\n4to ganador: S/. 800\n\n \n*La inscripción es un compromiso hacia el programa seleccionado\, no hay cambios de fecha\, reprogramaciones\, devoluciones\, por ningún motivo. Es responsabilidad del voluntario(a) revisar la información completa del programa. \n 
URL:https://asociacionkp.org/evento/convocatoria-de-voluntariado-virtual-rifaton-digital-kp-wasi-inscripciones-abiertas/
LOCATION:60 horas | Voluntariado virtual
ATTACH;FMTTYPE=image/png:https://asociacionkp.org/wp-content/uploads/2022/04/CONVOCATORIA-KP-2022-1-1.png
ORGANIZER;CN="Asociaci%C3%B3n KP":MAILTO:administracion@asociacionkp.org
END:VEVENT
END:VCALENDAR