BEGIN:VCALENDAR
VERSION:2.0
PRODID:-//Asociación KP - ECPv6.3.4//NONSGML v1.0//EN
CALSCALE:GREGORIAN
METHOD:PUBLISH
X-ORIGINAL-URL:https://asociacionkp.org
X-WR-CALDESC:Eventos para Asociación KP
REFRESH-INTERVAL;VALUE=DURATION:PT1H
X-Robots-Tag:noindex
X-PUBLISHED-TTL:PT1H
BEGIN:VTIMEZONE
TZID:UTC
BEGIN:STANDARD
TZOFFSETFROM:+0000
TZOFFSETTO:+0000
TZNAME:UTC
DTSTART:20240101T000000
END:STANDARD
END:VTIMEZONE
BEGIN:VEVENT
DTSTART;TZID=UTC:20240414T093000
DTEND;TZID=UTC:20240414T130000
DTSTAMP:20260422T020701
CREATED:20220429T154852Z
LAST-MODIFIED:20240408T162317Z
UID:922-1713087000-1713099600@asociacionkp.org
SUMMARY:| CONVOCATORIA | Visita al albergue "Club Can" – Inscripciones agotadas
DESCRIPTION:¡Genial que estés interesado en el voluntariado para ayudar a animales en albergues! La participación en este tipo de actividades es una forma maravillosa de contribuir al bienestar de los animales y brindarles una oportunidad de tener una vida mejor. \n¿Qué buscamos? \n\nVoluntarios amantes de los animales y comprometidos.\nTareas: Cuidado\, limpieza\, paseos y juegos.\n\nRequisitos y Perfil: \n\nEstudiantes\, egresados y público en general.\nDisponibilidad y compromiso.\nTacto\, respeto\, consideración\, trabajo en equipo.\nEmpatía y amor por los animales.\n\nBeneficios: \n\nAcreditación de 04 horas de voluntariado.\nOportunidad de marcar la diferencia y pertenecer a una comunidad comprometida.\nCertificado reconocido por SENAJU y MIMP (SINAVOL).\nInvitación a eventos exclusivos.\n\nDetalles del Programa: \n\nNombre: Visita al albergue «Club Can»\nFecha y horario: Domingo 14 de abril\, 9:30 am a 1 pm\n\nPunto de Encuentro y Traslado: \n\nCALLAO\, INOUTLET Aeropuerto: Av. Elmer Faucett 3443\, Callao a  las 9:30 am.\nVENTANILLA\, PARADERO INKA KOLA a las 10:00 am\nTraslado en transporte público (S/. 2 soles ida y vuelta).\n\nDonaciones Aceptadas: \n\nAlimento\, artículos de limpieza\, antipulgas\, medicinas\, útiles de aseo\, guantes\, agua embotellada.\n\nDinámica del Programa: \n\nEncuentro en Callao a las 9:30 am.\nPartida máxima a las 9:40 am desde el InOutlet Aeropuerto.\nRopa cómoda\, tomatodo\, botella de agua y alimento ligero.\nCharla de inducción y tareas en el albergue.\n\nProceso de Inscripción: \n\nEnvía tu inscripción al WhatsApp 📲 922 217 265 wssp con la siguiente información:\n\nNombre\nDistrito\nInstitución Educativa (colegio\, universidad\, egresado o ninguna)\nNúmero de WhatsApp\nNombre del Programa\nAdjunta el Voucher de inscripción (S/. 5.00 soles).\n\n\nRealiza el pago por Yape\, PLIN o cuenta bancaria (detalles proporcionados líneas abajo).\nAdemás\, te invitamos a incluir detalles sobre la donación que llevarás como voluntario para contribuir aún más a nuestra causa solidaria.\n\n¿Cuál es la inversión del programa? \n\nS/. 5.00 soles\n\n📌Canales bancarios para inscripción – Asociación KP: \n\nYape / PLIN: 922 217 265 (Jairo P.)\nCuenta Corriente Interbank: 200-3002054173\nCuenta Interbancaria desde cualquier banco: 003-200-003002054173-33\nRUC: 20601462924 / Razón Social: Asociación KP\n\nGracias por considerar ser parte de nuestro equipo y ayudar a los animales sin hogar \n  \n  \n\n\n\nRecuerda que con tu inscripción estás donando automáticamente a nuestros programas de ayuda social: \n\nKP Wasi – Hogar para mascotas abandonadas 2022.\nProyecto de esterilizaciones sociales– Prevenir la sobrepoblación de animales.\nProyecto #YoLlenoSuPlato – Alimento para animales rescatados y albergues afiliados a la Asociación.\n\n▶️ Adquiere tu Polo: Héroe KP \n\nPuedes solicitar tu polo KP a sólo 30 soles en talla S-M-L escribiendo al  https://wa.me/message/YJQSCGWXGP3XK1\n\n   \n 
URL:https://asociacionkp.org/evento/jornada-de-voluntariado-vista-al-albergue-club-can-de-ventanilla-inscripciones-abiertas/
LOCATION:04 horas\, | Albergue Club Can\, Ventanilla\, Lima\, Perú
ATTACH;FMTTYPE=image/png:https://asociacionkp.org/wp-content/uploads/2022/03/equipo-imagen.png
ORGANIZER;CN="Asociaci%C3%B3n KP":MAILTO:administracion@asociacionkp.org
END:VEVENT
END:VCALENDAR