BEGIN:VCALENDAR
VERSION:2.0
PRODID:-//Asociación KP - ECPv6.3.4//NONSGML v1.0//EN
CALSCALE:GREGORIAN
METHOD:PUBLISH
X-WR-CALNAME:Asociación KP
X-ORIGINAL-URL:https://asociacionkp.org
X-WR-CALDESC:Eventos para Asociación KP
REFRESH-INTERVAL;VALUE=DURATION:PT1H
X-Robots-Tag:noindex
X-PUBLISHED-TTL:PT1H
BEGIN:VTIMEZONE
TZID:UTC
BEGIN:STANDARD
TZOFFSETFROM:+0000
TZOFFSETTO:+0000
TZNAME:UTC
DTSTART:20250101T000000
END:STANDARD
END:VTIMEZONE
BEGIN:VEVENT
DTSTART;TZID=UTC:20250202T093000
DTEND;TZID=UTC:20250202T130000
DTSTAMP:20260421T084935
CREATED:20240606T171418Z
LAST-MODIFIED:20250124T143503Z
UID:2650-1738488600-1738501200@asociacionkp.org
SUMMARY:| CONVOCATORIA | Visita al albergue "Mis peques de 4 patas" – Inscripciones abiertas
DESCRIPTION:🐾 ¡Únete al equipo y ayuda a transformar vidas!\nSé parte de una experiencia única ayudando a animales en albergues. Tu tiempo y dedicación pueden marcar la diferencia. \n\n🎯 ¿A quién buscamos?\nVoluntarios apasionados y comprometidos con el bienestar animal. Si amas a los animales y quieres contribuir a su felicidad\, ¡este programa es para ti! \n\n✅ ¿Qué harás?\n\nCuidado y limpieza de los animales.\nPaseos\, juegos y socialización.\nColaboración en actividades del albergue.\n\n\n🌟 Beneficios de participar:\n\nCertificación oficial: 4 horas de voluntariado\, acreditadas por SENAJU y MIMP (SINAVOL).\nOportunidad de marcar una diferencia en la vida de los animales sin hogar.\nInvitación a eventos exclusivos (presenciales y virtuales) para voluntarios.\nCertificado válido para bonificaciones en Becas PRONABEC.\nPuedes incluir tu certificado en tu CV.\n\n\n🗓️ Detalles del programa:\n\nNombre: Visita al albergue “Mis Peques de 4 Patas”.\nFecha y horario: Domingo 2 de febrero\, de 9:30 am a 1:00 pm.\nPunto de encuentro: En los exteriores de la Universidad Ricardo Palma (Av. Alfredo Benavides 5440\, puerta principal)\, a las 9:30 am.\nTraslado: Transporte público (aprox. S/. 3.00 soles ida y vuelta).\n\n\n🎁 ¿Cómo puedes ayudar?\nLleva una donación para contribuir al cuidado de los animales: \n\nAlimentos para perros o gatos.\nArtículos de limpieza (escobas\, recogedores\, bolsas de basura).\nAntipulgas\, medicinas y útiles de aseo (jabón líquido\, toallas\, paños húmedos).\nGuantes de látex de cualquier talla o agua embotellada.\n\n\n🚀 Dinámica del programa:\n1️⃣ Encuentro en Surco (Universidad Ricardo Palma) a las 9:30 am.\n2️⃣ Partida a las 9:40 am en transporte público hacia el albergue.\n3️⃣ Actividades en el albergue: \n\nCharla de inducción y entrega de donaciones.\nLimpieza\, cuidado\, juegos y paseos con los animales.\n(Si aplica) Traslado de mascotas a la veterinaria o toma de fotos para fomentar adopciones.\n4️⃣ Lleva ropa cómoda (buzo y camiseta de manga larga)\, botella de agua y un snack ligero.\n\n\n📝 ¿Cómo inscribirte?\n¡Es muy fácil! Envía un mensaje de WhatsApp 📲 al 922 217 265 o accede directamente aquí:\nhttps://wa.me/message/YJQSCGWXGP3XK1. \nIncluye: \n\nNombre completo.\nDistrito.\nInstitución educativa (colegio\, universidad\, egresado o ninguna).\nNúmero de WhatsApp.\nNombre del programa: “Visita al albergue Mis Peques de 4 Patas”.\nDonación que llevarás.\nVoucher de inscripción (S/. 5.00 soles).\n\n\n💳 ¿Cómo realizar tu pago?\n\nYape/PLIN: 922 217 265 (Jairo P.).\nCuenta Corriente Interbank: 200-3002054173.\nCCI: 003-200-003002054173-33.\nRUC: 20601462924 / Razón Social: Asociación KP.\n\n\n❤️ ¡Inscríbete ahora y sé parte del cambio!\nLos animales te necesitan. Ayuda\, aprende y vive una experiencia inolvidable. 🐶🐱 \n¡Te esperamos con los brazos abiertos y las patas listas! 🐾 \n\n\n\n\n\n\n\nPreguntas frecuentes:\n¿Quiénes pueden participar? \n\n¡Todos son bienvenidos! Estudiantes\, egresados y público en general.\n\n¿Qué tan difícil es la actividad? \n\nNo necesitas experiencia previa\, solo amor por los animales y disposición para ayudar.\n\n¿Es necesario llevar donaciones? \n\nSi\, toda ayuda suma.\n\n\n\n\n\n\n\n  \n\n 
URL:https://asociacionkp.org/evento/convocatoria-visita-al-albergue-mis-peques-de-4-patas-inscripciones-abiertas/
LOCATION:04 horas\, | Albergue Villa\, Villa Maria del Triunfo\, Lima
ATTACH;FMTTYPE=image/jpeg:https://asociacionkp.org/wp-content/uploads/2022/05/WhatsApp-Image-2023-08-03-at-21.38.56.jpeg
ORGANIZER;CN="Asociaci%C3%B3n KP":MAILTO:administracion@asociacionkp.org
END:VEVENT
END:VCALENDAR