BEGIN:VCALENDAR
VERSION:2.0
PRODID:-//Asociación KP - ECPv6.3.4//NONSGML v1.0//EN
CALSCALE:GREGORIAN
METHOD:PUBLISH
X-ORIGINAL-URL:https://asociacionkp.org
X-WR-CALDESC:Eventos para Asociación KP
REFRESH-INTERVAL;VALUE=DURATION:PT1H
X-Robots-Tag:noindex
X-PUBLISHED-TTL:PT1H
BEGIN:VTIMEZONE
TZID:UTC
BEGIN:STANDARD
TZOFFSETFROM:+0000
TZOFFSETTO:+0000
TZNAME:UTC
DTSTART:20250101T000000
END:STANDARD
END:VTIMEZONE
BEGIN:VEVENT
DTSTART;TZID=UTC:20250223T080000
DTEND;TZID=UTC:20250223T140000
DTSTAMP:20260421T085627
CREATED:20220908T151002Z
LAST-MODIFIED:20250124T152653Z
UID:1418-1740297600-1740319200@asociacionkp.org
SUMMARY:| CONVOCATORIA | Visita al albergue «Las patitas de santa eulalia» en Chosica – Inscripciones abiertas
DESCRIPTION:¡ÚNETE A LA VISITA AL ALBERGUE “LAS PATITAS DE SANTA EULALIA”! 🐾\n\n¡Haz la diferencia en la vida de los animales refugiados!\nTe invitamos a unirte como voluntario en el albergue “Las Patitas de Santa Eulalia”\, ubicado en Chosica\, donde brindarás tu ayuda a los animales rescatados por Rocio Huallpa. Tu participación es fundamental para mejorar la vida de estos seres tan necesitados. \n\n¿QUÉ BUSCAMOS?\nVoluntarios comprometidos\, apasionados por los animales y dispuestos a contribuir con su tiempo y esfuerzo. Si amas a los animales y tienes ganas de ayudar\, ¡te necesitamos! \n\nTAREAS DEL VOLUNTARIO:\n\nCuidado de los animales.\nLimpieza y mantenimiento del albergue.\nPaseos y juegos con los animales.\n\n\nDETALLES DEL PROGRAMA:\n\nNombre del programa: Visita al albergue “Las Patitas de Santa Eulalia”\nFecha: Domingo 23 de febrero\nHorario: De 8:00 am a 2:00 pm\n\n\nPERFIL DEL VOLUNTARIO:\n\nEstudiantes\, egresados y público en general.\nDisponibilidad de tiempo y compromiso.\nEmpatía\, respeto y habilidades para trabajar en equipo.\nAmor y respeto por los animales.\n\n\nBENEFICIOS DE SER VOLUNTARIO KP:\n\n8 horas de voluntariado acreditadas.\nCertificado de reconocimiento acreditado por SENAJU y MIMP (SINAVOL).\nOportunidad de ampliar tu red de contactos.\nInvitación a eventos sociales exclusivos para voluntarios.\n\n\nDONACIONES ACEPTADAS:\n\nAlimento para mascotas.\nArtículos de limpieza\, antipulgas y medicinas.\nÚtiles de aseo (jabón líquido\, toallas\, paños húmedos).\nGuantes de látex.\n\n\nPUNTO DE ENCUENTRO:\n\nSan Miguel: Exteriores de la Av. La Marina (Auxiliar) frente a la Plaza San Miguel\, altura puerta de RIPLEY a las 8:10 am.\nSan Borja: Exteriores de la Estación La Cultura\, Av. Javier Prado Este 2238\, a las 8:40 am.\n\n\nTRASLADO:\n\nBus privado desde San Miguel y San Borja hasta el albergue (llegada máxima a las 10:45 am).\nTraslado de ida y vuelta incluido.\n\n\nITINERARIO DEL PROGRAMA:\n\nPunto de Encuentro: San Miguel (8:10 am) y San Borja (8:40 am).\nSalida máxima: 8:15 am desde San Miguel y 8:45 am desde San Borja.\nRecomendaciones: Lleva ropa cómoda\, tu tomatodo\, botella de agua y algo de alimento ligero.\nActividades: Charla de inducción\, entrega de donaciones\, tareas de limpieza\, paseo a los animales y otras actividades en el albergue.\n\n\nPROCESO DE INSCRIPCIÓN:\nPara unirte como voluntario\, sigue estos pasos: \n\nEnvía tu inscripción al WhatsApp 📲 922 217 265 con la siguiente información:\n\nNombre completo\nDistrito\nInstitución educativa (si aplica)\nNúmero de WhatsApp\nNombre del programa\nAdjunta el voucher de inscripción (S/. 40.00 soles).\n\n\nRealiza el pago de inscripción por uno de los siguientes canales:\n\nYape / PLIN: 922 217 265 (Jairo P.)\nCuenta Corriente Interbank: 200-3002054173\nCuenta Interbancaria: 003-200-003002054173-33\n\n\n\n\n¡Apúntate ahora y sé parte del cambio! 🐶🐱 \n\nPreguntas frecuentes:\n¿Quiénes pueden participar? \n\n¡Todos son bienvenidos! Estudiantes\, egresados y público en general.\n\n¿Qué tan difícil es la actividad? \n\nNo necesitas experiencia previa\, solo amor por los animales y disposición para ayudar.\n\n¿Es necesario llevar donaciones? \n\nSi\, toda ayuda suma.\n\n\n¡Tu tiempo puede salvar vidas! 🐾 Escríbenos y súmate a esta causa increíble. \n\n  \n\n\n \n‼️Recuerda que CON TU INSCRIPCIÓN estás donando directamente a nuestros programas sociales: \n🏡KP Wasi – Construcción e implementación del albergue KP\, que busca beneficiar a +150 animales por año. \n⛑️Proyecto de esterilizaciones sociales – Prevenir la sobrepoblación de animales a través del programa de salud. \n🥙 #YoLlenoSuPlato – Alimento para animales rescatados y albergues afiliados a la Asociación. \n  \n\n  \n▶️ Los cambios o cancelación de inscripción se realizan 5 días antes de iniciar la jornada de voluntariado\, debido al aforo por cada actividad.
URL:https://asociacionkp.org/evento/jornada-de-voluntariado-visita-al-albergue-las-patitas-de-santa-eulalia-en-chosica-inscripciones-abiertas-2/
LOCATION:08 horas\, | Albergue "Las patitas de santa eulalia"\, Santa Eulalia\, Chosica\, Perú
ATTACH;FMTTYPE=image/jpeg:https://asociacionkp.org/wp-content/uploads/2022/07/WhatsApp-Image-2022-07-06-at-5.53.37-PM.jpeg
ORGANIZER;CN="Asociaci%C3%B3n KP":MAILTO:administracion@asociacionkp.org
END:VEVENT
END:VCALENDAR